BEGIN:VCALENDAR
VERSION:2.0
PRODID:ShowClix//ShowClix//EN
BEGIN:VTIMEZONE
TZID:America/Chicago
BEGIN:STANDARD
DTSTART:20261101T070000
TZOFFSETFROM:-0500
TZOFFSETTO:-0600
TZNAME:CST
END:STANDARD
BEGIN:DAYLIGHT
DTSTART:20270314T080000
TZOFFSETFROM:-0600
TZOFFSETTO:-0500
TZNAME:CDT
END:DAYLIGHT
END:VTIMEZONE
BEGIN:VEVENT
DTSTART;TZID=America/Chicago:20260425
SUMMARY:Trace Adkins VIP Photo Op Package Upgrade: Island Resort &amp; Casino
DESCRIPTION:Show details available at https://tickets.onelivemedia.com/event/trace-adkins-vip-photo-op-package-upgrade-harrismi042526
LOCATION:Island Resort &amp; Casino
GEO:46.270356;-85.457076
END:VEVENT
END:VCALENDAR
