BEGIN:VCALENDAR
VERSION:2.0
PRODID:ShowClix//ShowClix//EN
BEGIN:VTIMEZONE
TZID:Mexico/General
END:VTIMEZONE
BEGIN:VEVENT
DTSTART;TZID=Mexico/General:20260511
SUMMARY:Megadeth VIP Experience Upgrade: Arena Ciudad de Mexico
DESCRIPTION:Show details available at https://tickets.onelivemedia.com/event/megadeth-vipphotoexp-upgrade-mexicocity051126
LOCATION:Arena Ciudad de Mexico
GEO:19.499013;-99.174665
END:VEVENT
END:VCALENDAR
