BEGIN:VCALENDAR
VERSION:2.0
PRODID:ShowClix//ShowClix//EN
BEGIN:VTIMEZONE
TZID:Australia/NSW
BEGIN:STANDARD
DTSTART:20270403T160000
TZOFFSETFROM:+1100
TZOFFSETTO:+1000
TZNAME:AEST
END:STANDARD
BEGIN:DAYLIGHT
DTSTART:20271002T160000
TZOFFSETFROM:+1000
TZOFFSETTO:+1100
TZNAME:AEDT
END:DAYLIGHT
END:VTIMEZONE
BEGIN:VEVENT
DTSTART;TZID=Australia/NSW:20261115
SUMMARY:Megadeth Band Member Meet &amp; Greet Upgrades: Allianz Stadium
DESCRIPTION:Show details available at https://tickets.onelivemedia.com/event/megadeth-member-meetgreet-upgrade-sydney111526
LOCATION:Allianz Stadium
GEO:-33.890543;151.223415
END:VEVENT
END:VCALENDAR
