BEGIN:VCALENDAR
VERSION:2.0
PRODID:ShowClix//ShowClix//EN
BEGIN:VTIMEZONE
TZID:Australia/Victoria
BEGIN:STANDARD
DTSTART:20270403T160000
TZOFFSETFROM:+1100
TZOFFSETTO:+1000
TZNAME:AEST
END:STANDARD
BEGIN:DAYLIGHT
DTSTART:20271002T160000
TZOFFSETFROM:+1000
TZOFFSETTO:+1100
TZNAME:AEDT
END:DAYLIGHT
END:VTIMEZONE
BEGIN:VEVENT
DTSTART;TZID=Australia/Victoria:20261113
SUMMARY:Megadeth Band Member Meet &amp; Greet Upgrades: AAMI Park
DESCRIPTION:Show details available at https://tickets.onelivemedia.com/event/megadeth-member-meetgreet-upgrade-melbourne111326
LOCATION:AAMI Park
GEO:-37.823706;144.981246
END:VEVENT
END:VCALENDAR
