BEGIN:VCALENDAR
VERSION:2.0
PRODID:ShowClix//ShowClix//EN
BEGIN:VTIMEZONE
TZID:Australia/Queensland
END:VTIMEZONE
BEGIN:VEVENT
DTSTART;TZID=Australia/Queensland:20261118
SUMMARY:Megadeth Band Member Meet &amp; Greet Upgrades: Brisbane Entertainment Centre
DESCRIPTION:Show details available at https://tickets.onelivemedia.com/event/megadeth-member-meetgreet-upgrade-brisbane111826
LOCATION:Brisbane Entertainment Centre
GEO:-27.346017;153.070516
END:VEVENT
END:VCALENDAR
