BEGIN:VCALENDAR
VERSION:2.0
PRODID:ShowClix//ShowClix//EN
BEGIN:VTIMEZONE
TZID:Pacific/Auckland
BEGIN:STANDARD
DTSTART:20270403T140000
TZOFFSETFROM:+1300
TZOFFSETTO:+1200
TZNAME:NZST
END:STANDARD
BEGIN:DAYLIGHT
DTSTART:20270925T140000
TZOFFSETFROM:+1200
TZOFFSETTO:+1300
TZNAME:NZDT
END:DAYLIGHT
END:VTIMEZONE
BEGIN:VEVENT
DTSTART;TZID=Pacific/Auckland:20261107
SUMMARY:Megadeth Band Member Meet &amp; Greet Upgrades: Spark Arena
DESCRIPTION:Show details available at https://tickets.onelivemedia.com/event/megadeth-member-meetgreet-upgrade-auckland110726
LOCATION:Spark Arena
GEO:-36.846708;174.775159
END:VEVENT
END:VCALENDAR
