BEGIN:VCALENDAR
VERSION:2.0
PRODID:ShowClix//ShowClix//EN
BEGIN:VTIMEZONE
TZID:Australia/South
BEGIN:STANDARD
DTSTART:20270403T163000
TZOFFSETFROM:+1030
TZOFFSETTO:+0930
TZNAME:ACST
END:STANDARD
BEGIN:DAYLIGHT
DTSTART:20271002T163000
TZOFFSETFROM:+0930
TZOFFSETTO:+1030
TZNAME:ACDT
END:DAYLIGHT
END:VTIMEZONE
BEGIN:VEVENT
DTSTART;TZID=Australia/South:20261111
SUMMARY:Megadeth Band Member Meet &amp; Greet Upgrades: Adelaide Entertainment Centre
DESCRIPTION:Show details available at https://tickets.onelivemedia.com/event/megadeth-member-meetgreet-upgrade-adelaide111126
LOCATION:Adelaide Entertainment Centre
GEO:-34.904339;138.570196
END:VEVENT
END:VCALENDAR
