BEGIN:VCALENDAR
VERSION:2.0
PRODID:ShowClix//ShowClix//EN
BEGIN:VTIMEZONE
TZID:America/New_York
BEGIN:STANDARD
DTSTART:20261101T060000
TZOFFSETFROM:-0400
TZOFFSETTO:-0500
TZNAME:EST
END:STANDARD
BEGIN:DAYLIGHT
DTSTART:20270314T070000
TZOFFSETFROM:-0500
TZOFFSETTO:-0400
TZNAME:EDT
END:DAYLIGHT
END:VTIMEZONE
BEGIN:VEVENT
DTSTART;TZID=America/New_York:20260426
SUMMARY:Matt Fraser VIP Meet &amp; Greet Upgrade: MGM Northfield Park
DESCRIPTION:Show details available at https://tickets.onelivemedia.com/event/matt-fraser-vip-meet-greet-upgrade-northfield042626
LOCATION:MGM Northfield Park
GEO:41.349001;-81.526843
END:VEVENT
END:VCALENDAR
