BEGIN:VCALENDAR
VERSION:2.0
PRODID:ShowClix//ShowClix//EN
BEGIN:VTIMEZONE
TZID:America/New_York
BEGIN:DAYLIGHT
DTSTART:20270314T070000
TZOFFSETFROM:-0500
TZOFFSETTO:-0400
TZNAME:EDT
END:DAYLIGHT
END:VTIMEZONE
BEGIN:VEVENT
DTSTART;TZID=America/New_York:20261107
SUMMARY:Deep Purple VIP Meet &amp; Greet Upgrade Package: PSD Bank N&uuml;rnberg Arena
DESCRIPTION:Show details available at https://tickets.onelivemedia.com/event/deep-purple-vip-meet-greet-upgrade-package-nurenburg110726
LOCATION:PSD Bank N&uuml;rnberg Arena
GEO:49.427603;11.122902
END:VEVENT
END:VCALENDAR
