BEGIN:VCALENDAR
VERSION:2.0
PRODID:ShowClix//ShowClix//EN
BEGIN:VTIMEZONE
TZID:America/New_York
BEGIN:DAYLIGHT
DTSTART:20270314T070000
TZOFFSETFROM:-0500
TZOFFSETTO:-0400
TZNAME:EDT
END:DAYLIGHT
BEGIN:STANDARD
DTSTART:20271107T060000
TZOFFSETFROM:-0400
TZOFFSETTO:-0500
TZNAME:EST
END:STANDARD
END:VTIMEZONE
BEGIN:VEVENT
DTSTART;TZID=America/New_York:20261115
SUMMARY:Deep Purple VIP Meet &amp; Greet Upgrade Package: LDLC Arena - D&eacute;cines-Charpieu, France
DESCRIPTION:Show details available at https://tickets.onelivemedia.com/event/deep-purple-vip-meet-greet-upgrade-package-lyon111526
LOCATION:LDLC Arena
GEO:45.769518;4.979946
END:VEVENT
END:VCALENDAR
