BEGIN:VCALENDAR
VERSION:2.0
PRODID:ShowClix//ShowClix//EN
BEGIN:VTIMEZONE
TZID:America/New_York
BEGIN:STANDARD
DTSTART:20261101T060000
TZOFFSETFROM:-0400
TZOFFSETTO:-0500
TZNAME:EST
END:STANDARD
BEGIN:DAYLIGHT
DTSTART:20270314T070000
TZOFFSETFROM:-0500
TZOFFSETTO:-0400
TZNAME:EDT
END:DAYLIGHT
END:VTIMEZONE
BEGIN:VEVENT
DTSTART;TZID=America/New_York:20260422
SUMMARY:Deep Purple VIP Meet &amp; Greet Upgrade Package: Almaty Arena
DESCRIPTION:Show details available at https://tickets.onelivemedia.com/event/deep-purple-vip-meet-greet-upgrade-package-almaty-042226
LOCATION:Almaty Arena
GEO:43.314404;76.956916
END:VEVENT
END:VCALENDAR
