BEGIN:VCALENDAR
VERSION:2.0
PRODID:ShowClix//ShowClix//EN
BEGIN:VTIMEZONE
TZID:America/New_York
BEGIN:DAYLIGHT
DTSTART:20270314T070000
TZOFFSETFROM:-0500
TZOFFSETTO:-0400
TZNAME:EDT
END:DAYLIGHT
END:VTIMEZONE
BEGIN:VEVENT
DTSTART;TZID=America/New_York:20261101
SUMMARY:Deep Purple VIP Meet &amp; Greet Upgrade Package: Sporthalle
DESCRIPTION:Show details available at https://tickets.onelivemedia.com/event/deep-purple-vip-meet-greet-upgrade-package-Sporthalle110126
LOCATION:Sporthalle
GEO:53.602725;10.002062
END:VEVENT
END:VCALENDAR
