BEGIN:VCALENDAR
VERSION:2.0
PRODID:ShowClix//ShowClix//EN
BEGIN:VTIMEZONE
TZID:America/New_York
BEGIN:DAYLIGHT
DTSTART:20270314T070000
TZOFFSETFROM:-0500
TZOFFSETTO:-0400
TZNAME:EDT
END:DAYLIGHT
END:VTIMEZONE
BEGIN:VEVENT
DTSTART;TZID=America/New_York:20261106
SUMMARY:Deep Purple VIP Meet &amp; Greet Upgrade Package: Festhalle Frankfurt
DESCRIPTION:Show details available at https://tickets.onelivemedia.com/event/deep-purple-vip-meet-greet-upgrade-package-Festhalle110625
LOCATION:Festhalle Frankfurt
GEO:50.111846;8.650851
END:VEVENT
END:VCALENDAR
